BEGIN:VCALENDAR
VERSION:2.0
PRODID:-//CollegeNET Inc//NONSGML R25//EN
X-R25-ENGINE:SWS
METHOD:PUBLISH
CALSCALE:GREGORIAN
BEGIN:VTIMEZONE
TZID:America/New_York
BEGIN:DAYLIGHT
TZNAME:EDT
DTSTART:20260308T020000
TZOFFSETFROM:-0500
TZOFFSETTO:-0400
END:DAYLIGHT
BEGIN:STANDARD
TZNAME:EST
DTSTART:20261101T020000
TZOFFSETFROM:-0400
TZOFFSETTO:-0500
END:STANDARD
END:VTIMEZONE
BEGIN:VEVENT
UID;X-R25-ID=164190:UAI/R25/471/2026-AAVSHP/176823/880481
SUMMARY:MUSC Health Coach Virtual Info Session
X-R25-TITLE:MUSC National Board-Certified Health Coach Training & Education Program Virtual Information Session
X-R25-TYPE;X-R25-ID=31:Webinar
X-R25-HEADCOUNT;X-R25-TYPE=EXPECTED:30
X-R25-ORGANIZATION;X-R25-ID=467;X-R25-PRIMARY=1:College of Health Professions
SEQUENCE:0
PRIORITY:0
STATUS:CONFIRMED
DTSTAMP:20260423T040648Z
CREATED:20260420T193800Z
LAST-MODIFIED:20260420T193834Z
DTSTART;TZID=America/New_York:20260428T120000
DTEND;TZID=America/New_York:20260428T130000
ORGANIZER;X-R25-ID=10847;CN="Nash^, Lisa":MAILTO:nashli@musc.edu
ATTENDEE;X-R25-ID=10847;ROLE=Requestor;CN="Nash^, Lisa":MAILTO:nashli@musc.edu
END:VEVENT
END:VCALENDAR
