BEGIN:VCALENDAR
VERSION:2.0
PRODID:-//CollegeNET Inc//NONSGML R25//EN
X-R25-ENGINE:SWS
METHOD:PUBLISH
CALSCALE:GREGORIAN
BEGIN:VTIMEZONE
TZID:America/New_York
BEGIN:DAYLIGHT
TZNAME:EDT
DTSTART:20260308T020000
TZOFFSETFROM:-0500
TZOFFSETTO:-0400
END:DAYLIGHT
BEGIN:STANDARD
TZNAME:EST
DTSTART:20261101T020000
TZOFFSETFROM:-0400
TZOFFSETTO:-0500
END:STANDARD
END:VTIMEZONE
BEGIN:VEVENT
UID;X-R25-ID=164169:UAI/R25/471/2026-AAVSGP/176802/880455
SUMMARY:SCDA
X-R25-TITLE:MUSC Alumni Reception at SCDA
X-R25-TYPE;X-R25-ID=24:Reception
X-R25-HEADCOUNT;X-R25-TYPE=EXPECTED:100
X-R25-ORGANIZATION;X-R25-ID=5;X-R25-PRIMARY=1:Alumni Affairs
SEQUENCE:1
PRIORITY:0
STATUS:CONFIRMED
DTSTAMP:20260424T214031Z
CREATED:20260420T173600Z
LAST-MODIFIED:20260420T173644Z
DTSTART;TZID=America/New_York:20260430T170000
DTEND;TZID=America/New_York:20260430T183000
ORGANIZER;X-R25-ID=10174;CN="Graf Dobson^, Lauren":MAILTO:grafl@musc.edu
ATTENDEE;X-R25-ID=10174;ROLE=Requestor;CN="Graf Dobson^, Lauren":MAILTO:grafl@musc.edu
END:VEVENT
END:VCALENDAR
