BEGIN:VCALENDAR
VERSION:2.0
PRODID:-//CollegeNET Inc//NONSGML R25//EN
X-R25-ENGINE:SWS
METHOD:PUBLISH
CALSCALE:GREGORIAN
BEGIN:VTIMEZONE
TZID:America/New_York
BEGIN:DAYLIGHT
TZNAME:EDT
DTSTART:20260308T020000
TZOFFSETFROM:-0500
TZOFFSETTO:-0400
END:DAYLIGHT
BEGIN:STANDARD
TZNAME:EST
DTSTART:20261101T020000
TZOFFSETFROM:-0400
TZOFFSETTO:-0500
END:STANDARD
END:VTIMEZONE
BEGIN:VEVENT
DTSTAMP:20260421T164446Z
UID;X-R25-ID=162782:UAI/R25/471/2026-AAVPCN/174789/876881
RECURRENCE-ID;TZID=America/New_York:20260414T090000
SUMMARY:MUSC Health Coach Virtual Info Session
X-R25-ORGANIZATION;X-R25-ID=12;X-R25-PRIMARY=1:CHP Staff
X-R25-TYPE;X-R25-ID=31:Webinar
STATUS:CONFIRMED
SEQUENCE:12
ATTENDEE;X-R25-ID=10204;ROLE=Requestor;CN="Ratley^, Summer":MAILTO:ratleys@musc.edu
ORGANIZER;X-R25-ID=10204;CN="Ratley^, Summer":MAILTO:ratleys@musc.edu
DTSTART;TZID=America/New_York:20260414T120000
DTEND;TZID=America/New_York:20260414T130000
RELATED-TO;RELTYPE=X-R25-RESERVATION:UAI/R25/471/2026-AAVPCN
END:VEVENT
BEGIN:VEVENT
DTSTAMP:20260421T164446Z
UID;X-R25-ID=162782:UAI/R25/471/2026-AAVPCN/174789/876882
RECURRENCE-ID;TZID=America/New_York:20260420T150000
SUMMARY:MUSC Health Coach Virtual Info Session
X-R25-ORGANIZATION;X-R25-ID=12;X-R25-PRIMARY=1:CHP Staff
X-R25-TYPE;X-R25-ID=31:Webinar
STATUS:CONFIRMED
SEQUENCE:12
ATTENDEE;X-R25-ID=10204;ROLE=Requestor;CN="Ratley^, Summer":MAILTO:ratleys@musc.edu
ORGANIZER;X-R25-ID=10204;CN="Ratley^, Summer":MAILTO:ratleys@musc.edu
DTSTART;TZID=America/New_York:20260420T180000
DTEND;TZID=America/New_York:20260420T190000
RELATED-TO;RELTYPE=X-R25-RESERVATION:UAI/R25/471/2026-AAVPCN
END:VEVENT
END:VCALENDAR
