BEGIN:VCALENDAR
VERSION:2.0
PRODID:-//CollegeNET Inc//NONSGML R25//EN
X-R25-ENGINE:SWS
METHOD:PUBLISH
CALSCALE:GREGORIAN
BEGIN:VTIMEZONE
TZID:America/New_York
BEGIN:DAYLIGHT
TZNAME:EDT
DTSTART:20260308T020000
TZOFFSETFROM:-0500
TZOFFSETTO:-0400
END:DAYLIGHT
BEGIN:STANDARD
TZNAME:EST
DTSTART:20261101T020000
TZOFFSETFROM:-0400
TZOFFSETTO:-0500
END:STANDARD
END:VTIMEZONE
BEGIN:VEVENT
UID;X-R25-ID=159003:UAI/R25/471/2026-AAVDNP/170860/862613
SUMMARY:HCS Virtual Info Session
X-R25-TITLE:Bachelor of Science in Healthcare Studies Virtual Information Session
X-R25-TYPE;X-R25-ID=31:Webinar
X-R25-HEADCOUNT;X-R25-TYPE=EXPECTED:30
X-R25-ORGANIZATION;X-R25-ID=12;X-R25-PRIMARY=1:CHP Staff
SEQUENCE:3
PRIORITY:0
STATUS:CONFIRMED
DTSTAMP:20260425T210303Z
CREATED:20260109T213800Z
LAST-MODIFIED:20260422T213608Z
DTSTART;TZID=America/New_York:20260512T170000
DTEND;TZID=America/New_York:20260512T180000
ORGANIZER;X-R25-ID=10204;CN="Ratley^, Summer":MAILTO:ratleys@musc.edu
ATTENDEE;X-R25-ID=10204;ROLE=Requestor;CN="Ratley^, Summer":MAILTO:ratleys@musc.edu
CATEGORIES;X-R25-ID=44:HCS
END:VEVENT
END:VCALENDAR
